BEGIN:VCALENDAR
VERSION:2.0
PRODID:-//Library Market//iCal Export//EN
BEGIN:VEVENT
SUMMARY:Maker Meet-Up for Teens
UID:162009
DTSTAMP:20260423T140400Z
DTSTART:20260505T193000Z
DTEND:20260505T204500Z
LOCATION:1080 Old Post Road, Fairfield, CT 06824, United States
ROOM: Harold B. Harris Maker Lab
DESCRIPTION:Join us in our Maker lab to create!  Each meeting will featur
 e a different maker tool.  We will experiment with the Glowforge laser cu
 tter, sublimation printer, journal binder, silhouette cutter, button maker
 , 3d printer, vacuum form maker, and more.In May, we will use the Glowforg
 e to make a decorative, etched, free-standing acrylic night light. Makes a
  perfect gift for a mom or mom-like figure or make one for yourself!Open t
 o grades 6-12. Registration required.
URL:https://fplct.librarymarket.com/event/maker-meet-teens-162009
END:VEVENT
END:VCALENDAR
