BEGIN:VCALENDAR
VERSION:2.0
PRODID:-//Library Market//iCal Export//EN
BEGIN:VEVENT
SUMMARY:Adult Jigsaw Puzzle Tournament
UID:161750
DTSTAMP:20260421T232700Z
DTSTART:20260620T180000Z
DTEND:20260620T200000Z
LOCATION:1080 Old Post Road, Fairfield, CT 06824, United States
ROOM: Rotary Room
DESCRIPTION:Whether you&#039;re a &quot;piece&quot; seeker or a strategic 
 mastermind, it’s time to snap into action! Join us for an exhilarating J
 igsaw Puzzle Tournament where speed, strategy, and a sharp eye are the key
 s to victory.Teams will race against the clock (and each other) to complet
 e a secret 500-piece puzzle. No one sees the design until the timer starts
 —will your team be the first to click the final piece into place?Bring Y
 our Squad: Register as a Team of Four and divide the labor. Assign your be
 st sorters, border-builders, and color-matchers to take home the win. Fly
  Solo: Signing up as a Single? No problem! We’ll pair you with fellow en
 thusiasts to form a &quot;pro-puzzle&quot; powerhouse. It’s a fantastic 
 way to meet fellow enthusiasts.*Puzzles generously donated by Ravensburger
URL:https://fplct.librarymarket.com/event/puzzle-tournament-161750
END:VEVENT
END:VCALENDAR
