BEGIN:VCALENDAR
VERSION:2.0
PRODID:-//Library Market//iCal Export//EN
BEGIN:VEVENT
SUMMARY:Queer History: Amazing Stories You Never Knew and Why They Matter
UID:160206
DTSTAMP:20260422T102700Z
DTSTART:20260603T223000Z
DTEND:20260603T233000Z
LOCATION:1080 Old Post Road, Fairfield, CT 06824, United States
ROOM: Rotary Room
DESCRIPTION:Join author Sarah Prager as she shares fascinating stories fro
 m LGBTQ+ history you’ve never heard before. We’ll learn why LGBTQ+ his
 tory matters, how far back it goes, how it has shaped the world, and who s
 ome of the most interesting individuals from it are. About the author: S
 arah Prager is the author of four books on LGBTQ+ history. Her book, Queer
 , There, and Everywhere: 27 People Who Changed the World, received numerou
 s distinctions including three starred reviews and being named a Best Book
  for Teens by the New York Public Library and Chicago Public Library. Sara
 h has presented on LGBTQ+ history to over 250 audiences across eight count
 ries, including two U.S. embassies. Her writing has appeared in the New Yo
 rk Times, The Atlantic, National Geographic, NBC News, Washington Post, Co
 smopolitan, and other national outlets.Registration is required
URL:https://fplct.librarymarket.com/event/author-talk-adults-teens-160206
END:VEVENT
END:VCALENDAR
