BEGIN:VCALENDAR
VERSION:2.0
PRODID:-//Library Market//iCal Export//EN
BEGIN:VEVENT
SUMMARY:BonnaH Co: Sew Your Own Mini Flag
UID:162904
DTSTAMP:20260425T152800Z
DTSTART:20260603T213000Z
DTEND:20260603T233000Z
LOCATION:1147 Fairfield Woods Road, Fairfield, CT 06825, United States
ROOM: Caroline Platt Walsh Community Room
DESCRIPTION:Join Bonnie Liang and Hannah Choi of BonnaH Co Fiber Arts to c
 elebrate 250 years of American history with a creative sewing and embroide
 ry workshop! Participants will stitch together four fabric squares to crea
 te a mini-flag design, then personalize it with embroidery, ribbon, or oth
 er embellishments. A variety of fabric colors will be available, including
  a traditional patriotic palette, so you can customize your flag. Fabric a
 nd colors will vary. All materials provided, and all skill levels welcome!
   
URL:https://fplct.librarymarket.com/index.php/event/bonnah-co-sew-your-own
 -mini-flag-162904
END:VEVENT
END:VCALENDAR
