BEGIN:VCALENDAR
VERSION:2.0
PRODID:-//Library Market//iCal Export//EN
BEGIN:VEVENT
SUMMARY:Mother&#039;s Day DIY Gift Workshop
UID:156766
DTSTAMP:20260422T003200Z
DTSTART:20260504T220000Z
DTEND:20260504T233000Z
LOCATION:1147 Fairfield Woods Road, Fairfield, CT 06825, United States
ROOM: Small Meeting Room
DESCRIPTION:Celebrate the motherly figure in your life - whether it be a m
 om, sister, or grandma! Teens will whip up a sugar scrub, craft a handmade
  card, and even create unique scratch tickets!For teens in grades 6 throug
 h 12. Registration is required. 
URL:https://fplct.librarymarket.com/index.php/event/mothers-day-diy-gift-w
 orkshop-156766
END:VEVENT
END:VCALENDAR
